BEGIN:VCALENDAR
VERSION:2.0
PRODID:-//Lisa Luckett - ECPv6.13.2.1//NONSGML v1.0//EN
CALSCALE:GREGORIAN
METHOD:PUBLISH
X-WR-CALNAME:Lisa Luckett
X-ORIGINAL-URL:https://lisaluckett.com
X-WR-CALDESC:Events for Lisa Luckett
REFRESH-INTERVAL;VALUE=DURATION:PT1H
X-Robots-Tag:noindex
X-PUBLISHED-TTL:PT1H
BEGIN:VTIMEZONE
TZID:America/New_York
BEGIN:DAYLIGHT
TZOFFSETFROM:-0500
TZOFFSETTO:-0400
TZNAME:EDT
DTSTART:20180311T070000
END:DAYLIGHT
BEGIN:STANDARD
TZOFFSETFROM:-0400
TZOFFSETTO:-0500
TZNAME:EST
DTSTART:20181104T060000
END:STANDARD
END:VTIMEZONE
BEGIN:VEVENT
DTSTART;TZID=America/New_York:20180822T180000
DTEND;TZID=America/New_York:20180822T200000
DTSTAMP:20260423T094733
CREATED:20180818T015601Z
LAST-MODIFIED:20180818T021451Z
UID:509-1534960800-1534968000@lisaluckett.com
SUMMARY:Book Reading and Discussion
DESCRIPTION:This event is free of charge.   All are welcome!
URL:https://lisaluckett.com/event/book-reading-and-discussion/
LOCATION:Barnes & Noble  – The Commons at Holmdel\, 2134 State Highway 35\, Holmdel\, NJ\, 07733\, United States
CATEGORIES:All
ATTACH;FMTTYPE=image/jpeg:https://lisaluckett.com/wp-content/uploads/2018/07/TheLightIn911_CoverConcept1_RGB_72dpi_5.5x8.5.jpg
END:VEVENT
END:VCALENDAR